BEGIN:VCALENDAR
VERSION:2.0
PRODID:-//AFP WNC - ECPv6.15.20//NONSGML v1.0//EN
CALSCALE:GREGORIAN
METHOD:PUBLISH
X-WR-CALNAME:AFP WNC
X-ORIGINAL-URL:https://www.afpwnc.org
X-WR-CALDESC:Events for AFP WNC
REFRESH-INTERVAL;VALUE=DURATION:PT1H
X-Robots-Tag:noindex
X-PUBLISHED-TTL:PT1H
BEGIN:VTIMEZONE
TZID:America/New_York
BEGIN:DAYLIGHT
TZOFFSETFROM:-0500
TZOFFSETTO:-0400
TZNAME:EDT
DTSTART:20240310T070000
END:DAYLIGHT
BEGIN:STANDARD
TZOFFSETFROM:-0400
TZOFFSETTO:-0500
TZNAME:EST
DTSTART:20241103T060000
END:STANDARD
BEGIN:DAYLIGHT
TZOFFSETFROM:-0500
TZOFFSETTO:-0400
TZNAME:EDT
DTSTART:20250309T070000
END:DAYLIGHT
BEGIN:STANDARD
TZOFFSETFROM:-0400
TZOFFSETTO:-0500
TZNAME:EST
DTSTART:20251102T060000
END:STANDARD
BEGIN:DAYLIGHT
TZOFFSETFROM:-0500
TZOFFSETTO:-0400
TZNAME:EDT
DTSTART:20260308T070000
END:DAYLIGHT
BEGIN:STANDARD
TZOFFSETFROM:-0400
TZOFFSETTO:-0500
TZNAME:EST
DTSTART:20261101T060000
END:STANDARD
END:VTIMEZONE
BEGIN:VEVENT
DTSTART;TZID=America/New_York:20250409T160000
DTEND;TZID=America/New_York:20250409T173000
DTSTAMP:20260425T130508
CREATED:20250207T153952Z
LAST-MODIFIED:20250403T130817Z
UID:5270-1744214400-1744219800@www.afpwnc.org
SUMMARY:April Crafted Conversations
DESCRIPTION:April Crafted Conversations\nJoin your colleagues for some “Crafted Conversations” around fundraising topics you want to talk about! Our topic for April is all things planned giving\, legacy giving\, and estate planning. Registration includes a drink ticket and a chance to win raffle prizes. NA options will be available.\n\nThe event will be held at The Mule at Devil’s Foot Beverage – 131 Sweeten Creek Rd\, Asheville\, NC 28803\n\n \nRegister
URL:https://www.afpwnc.org/event/april-crafted-conversations/
LOCATION:The Mule at Devil’s Foot Beverage\, 131 Sweeten Creek Rd\, Asheville\, NC\, 28803\, United States
CATEGORIES:Event
ORGANIZER;CN="AFP WNC":MAILTO:chapteradmin@afpwnc.org
END:VEVENT
END:VCALENDAR