BEGIN:VCALENDAR
VERSION:2.0
PRODID:-//AFP WNC - ECPv6.15.20//NONSGML v1.0//EN
CALSCALE:GREGORIAN
METHOD:PUBLISH
X-ORIGINAL-URL:https://www.afpwnc.org
X-WR-CALDESC:Events for AFP WNC
REFRESH-INTERVAL;VALUE=DURATION:PT1H
X-Robots-Tag:noindex
X-PUBLISHED-TTL:PT1H
BEGIN:VTIMEZONE
TZID:America/New_York
BEGIN:DAYLIGHT
TZOFFSETFROM:-0500
TZOFFSETTO:-0400
TZNAME:EDT
DTSTART:20240310T070000
END:DAYLIGHT
BEGIN:STANDARD
TZOFFSETFROM:-0400
TZOFFSETTO:-0500
TZNAME:EST
DTSTART:20241103T060000
END:STANDARD
BEGIN:DAYLIGHT
TZOFFSETFROM:-0500
TZOFFSETTO:-0400
TZNAME:EDT
DTSTART:20250309T070000
END:DAYLIGHT
BEGIN:STANDARD
TZOFFSETFROM:-0400
TZOFFSETTO:-0500
TZNAME:EST
DTSTART:20251102T060000
END:STANDARD
BEGIN:DAYLIGHT
TZOFFSETFROM:-0500
TZOFFSETTO:-0400
TZNAME:EDT
DTSTART:20260308T070000
END:DAYLIGHT
BEGIN:STANDARD
TZOFFSETFROM:-0400
TZOFFSETTO:-0500
TZNAME:EST
DTSTART:20261101T060000
END:STANDARD
END:VTIMEZONE
BEGIN:VEVENT
DTSTART;TZID=America/New_York:20251112T083000
DTEND;TZID=America/New_York:20251112T160000
DTSTAMP:20260423T194027
CREATED:20250903T215624Z
LAST-MODIFIED:20250916T223739Z
UID:5514-1762936200-1762963200@www.afpwnc.org
SUMMARY:Philanthropy Summit 2025
DESCRIPTION:Philanthropy Summit 2025\nAFP WNC is excited to announce the 2025 Philanthropy Summit\, which includes the return of our annual National Philanthropy Day Celebration followed by a half-day professional development conference formerly known as Philanthropy Institute. \nThe day begins with an elegant breakfast and National Philanthropy Day Awards Ceremony honoring the visionaries\, changemakers\, and champions of giving in our region. We’ll celebrate those who give\, those who raise funds\, and those who put resources to work for the greater good—including the presentation of the prestigious Summit Award to a lifelong leader in fundraising and community impact. \nFollowing the Awards Ceremony\, the program transforms into a conference-style Philanthropy Institute\, complete with a networking lunch\, skill-building workshops\, and inspiring sessions for fundraisers and community leaders. Attendees will hear a fundraising-focused keynote\, dive into practical breakout sessions\, and end the day with a dynamic panel of local foundations and funders offering their perspectives on giving in WNC. \nEarly Bird Registration is open now through October 6—don’t miss your chance to save and secure your seat. \n\nRegister as an AFP Member \nRegister as a Non-member \n  \nCancellation Policy\nRefunds and/or credits are not available for or applied to Philanthropy Summit. If payment is ‘pending at the door’ and an attendee is unable to attend\, an invoice will be emailed following the program.
URL:https://www.afpwnc.org/event/philanthropy-summit-2025/
LOCATION:A-B Tech Conference Center\, 16 Fernihurst Dr\, Asheville\, NC\, 28801\, United States
CATEGORIES:Event
ORGANIZER;CN="AFP WNC":MAILTO:chapteradmin@afpwnc.org
END:VEVENT
END:VCALENDAR