BEGIN:VCALENDAR
VERSION:2.0
PRODID:-//AFP WNC - ECPv6.15.20//NONSGML v1.0//EN
CALSCALE:GREGORIAN
METHOD:PUBLISH
X-ORIGINAL-URL:https://www.afpwnc.org
X-WR-CALDESC:Events for AFP WNC
REFRESH-INTERVAL;VALUE=DURATION:PT1H
X-Robots-Tag:noindex
X-PUBLISHED-TTL:PT1H
BEGIN:VTIMEZONE
TZID:America/New_York
BEGIN:DAYLIGHT
TZOFFSETFROM:-0500
TZOFFSETTO:-0400
TZNAME:EDT
DTSTART:20240310T070000
END:DAYLIGHT
BEGIN:STANDARD
TZOFFSETFROM:-0400
TZOFFSETTO:-0500
TZNAME:EST
DTSTART:20241103T060000
END:STANDARD
BEGIN:DAYLIGHT
TZOFFSETFROM:-0500
TZOFFSETTO:-0400
TZNAME:EDT
DTSTART:20250309T070000
END:DAYLIGHT
BEGIN:STANDARD
TZOFFSETFROM:-0400
TZOFFSETTO:-0500
TZNAME:EST
DTSTART:20251102T060000
END:STANDARD
BEGIN:DAYLIGHT
TZOFFSETFROM:-0500
TZOFFSETTO:-0400
TZNAME:EDT
DTSTART:20260308T070000
END:DAYLIGHT
BEGIN:STANDARD
TZOFFSETFROM:-0400
TZOFFSETTO:-0500
TZNAME:EST
DTSTART:20261101T060000
END:STANDARD
END:VTIMEZONE
BEGIN:VEVENT
DTSTART;TZID=America/New_York:20251210T160000
DTEND;TZID=America/New_York:20251210T173000
DTSTAMP:20260423T194925
CREATED:20251030T211429Z
LAST-MODIFIED:20251203T222532Z
UID:5613-1765382400-1765387800@www.afpwnc.org
SUMMARY:December Crafted Conversations & Holiday Social
DESCRIPTION:December Crafted Conversations\nJoin your colleagues for “Crafted Conversations” around fundraising topics you want to talk about! This year-end celebration event is free of charge and registration is required. Each attendee will receive a drink ticket. NA options will be available.\n\n \n  \nRegister
URL:https://www.afpwnc.org/event/december-crafted-conversations/
LOCATION:Highland Brewery\, 12 Old Charlotte Highway\, Asheville\, NC\, 28803\, United States
CATEGORIES:Event
ORGANIZER;CN="AFP WNC":MAILTO:chapteradmin@afpwnc.org
END:VEVENT
END:VCALENDAR