BEGIN:VCALENDAR
VERSION:2.0
PRODID:-//AFP WNC - ECPv6.15.20//NONSGML v1.0//EN
CALSCALE:GREGORIAN
METHOD:PUBLISH
X-WR-CALNAME:AFP WNC
X-ORIGINAL-URL:https://www.afpwnc.org
X-WR-CALDESC:Events for AFP WNC
REFRESH-INTERVAL;VALUE=DURATION:PT1H
X-Robots-Tag:noindex
X-PUBLISHED-TTL:PT1H
BEGIN:VTIMEZONE
TZID:America/New_York
BEGIN:DAYLIGHT
TZOFFSETFROM:-0500
TZOFFSETTO:-0400
TZNAME:EDT
DTSTART:20250309T070000
END:DAYLIGHT
BEGIN:STANDARD
TZOFFSETFROM:-0400
TZOFFSETTO:-0500
TZNAME:EST
DTSTART:20251102T060000
END:STANDARD
BEGIN:DAYLIGHT
TZOFFSETFROM:-0500
TZOFFSETTO:-0400
TZNAME:EDT
DTSTART:20260308T070000
END:DAYLIGHT
BEGIN:STANDARD
TZOFFSETFROM:-0400
TZOFFSETTO:-0500
TZNAME:EST
DTSTART:20261101T060000
END:STANDARD
BEGIN:DAYLIGHT
TZOFFSETFROM:-0500
TZOFFSETTO:-0400
TZNAME:EDT
DTSTART:20270314T070000
END:DAYLIGHT
BEGIN:STANDARD
TZOFFSETFROM:-0400
TZOFFSETTO:-0500
TZNAME:EST
DTSTART:20271107T060000
END:STANDARD
END:VTIMEZONE
BEGIN:VEVENT
DTSTART;TZID=America/New_York:20260311T120000
DTEND;TZID=America/New_York:20260311T130000
DTSTAMP:20260423T152437
CREATED:20260204T201609Z
LAST-MODIFIED:20260206T203124Z
UID:5702-1773230400-1773234000@www.afpwnc.org
SUMMARY:AFP WNC Presents: 2025 Bank of America Study of Philanthropy
DESCRIPTION:AFP WNC Presents: 2025 Bank of America Study of Philanthropy\n\nJoin AFP Western North Carolina for a timely virtual presentation with Dianne Chipps Bailey\, Managing Director and National Philanthropic Strategy Executive at Bank of America Private Bank. Dianne will share key findings from the 2025 Bank of America Study of Philanthropy\, one of the field’s most influential research reports on charitable giving trends\, motivations\, and behaviors. \nThis year’s study highlights insights nonprofit professionals can use to strengthen fundraising strategy\, deepen donor relationships\, and adapt to a changing philanthropic landscape. From giving patterns to volunteer engagement and donor decision-making\, attendees will gain practical\, data-informed knowledge to support their work in the year ahead. \nZoom link will be sent closer to the event date. \n\n\n \nPresented by Dianne Chipps Bailey. Dianne is a trusted advisor to influential\, impactful philanthropists and a passionate advocate for the nonprofit organizations they support. Dianne’s current role is Managing Director and National Philanthropic Strategy Executive for Bank of America. Her team delivers customized consulting and advisory services on topics including strategic visioning\, mission advancement\, high-impact grant making\, leadership development\, governance and board dynamics. Dianne is a frequent speaker and commentator on topics related to best practices and trends in philanthropy. Her insights have been featured in Axios\, Barron’s\, Business Insider\, Fortune\, Town & Country\, Washington Post and New York Times\, among other publications. In her TEDx Talk\, Dianne makes The Case for Fierce Optimism. Dianne has more than twenty-five years of experience working with operating charities\, grantmakers and social entrepreneurs. \nRegister
URL:https://www.afpwnc.org/event/afp-wnc-presents-2025-bank-of-america-study-of-philanthropy/
LOCATION:Virtual
CATEGORIES:Event,Zoom Call
ORGANIZER;CN="AFP WNC":MAILTO:chapteradmin@afpwnc.org
END:VEVENT
END:VCALENDAR