BEGIN:VCALENDAR
VERSION:2.0
PRODID:-//AFP WNC - ECPv6.15.20//NONSGML v1.0//EN
CALSCALE:GREGORIAN
METHOD:PUBLISH
X-ORIGINAL-URL:https://www.afpwnc.org
X-WR-CALDESC:Events for AFP WNC
REFRESH-INTERVAL;VALUE=DURATION:PT1H
X-Robots-Tag:noindex
X-PUBLISHED-TTL:PT1H
BEGIN:VTIMEZONE
TZID:America/New_York
BEGIN:DAYLIGHT
TZOFFSETFROM:-0500
TZOFFSETTO:-0400
TZNAME:EDT
DTSTART:20250309T070000
END:DAYLIGHT
BEGIN:STANDARD
TZOFFSETFROM:-0400
TZOFFSETTO:-0500
TZNAME:EST
DTSTART:20251102T060000
END:STANDARD
BEGIN:DAYLIGHT
TZOFFSETFROM:-0500
TZOFFSETTO:-0400
TZNAME:EDT
DTSTART:20260308T070000
END:DAYLIGHT
BEGIN:STANDARD
TZOFFSETFROM:-0400
TZOFFSETTO:-0500
TZNAME:EST
DTSTART:20261101T060000
END:STANDARD
BEGIN:DAYLIGHT
TZOFFSETFROM:-0500
TZOFFSETTO:-0400
TZNAME:EDT
DTSTART:20270314T070000
END:DAYLIGHT
BEGIN:STANDARD
TZOFFSETFROM:-0400
TZOFFSETTO:-0500
TZNAME:EST
DTSTART:20271107T060000
END:STANDARD
END:VTIMEZONE
BEGIN:VEVENT
DTSTART;TZID=America/New_York:20260416T160000
DTEND;TZID=America/New_York:20260416T173000
DTSTAMP:20260423T134940
CREATED:20260331T224319Z
LAST-MODIFIED:20260407T125018Z
UID:5744-1776355200-1776360600@www.afpwnc.org
SUMMARY:April Crafted Conversations
DESCRIPTION:From Transaction to Trust: Community-Centered Donor Stewardship in a Changing Landscape\n\nJoin AFP WNC for our April Crafted Conversations as we explore how donor expectations are changing and what that means for stewardship\, communication\, and retention. \nThis month’s conversation is designed for fundraisers across experience levels and organizational contexts\, with three guided discussion tracks: \n\nStarting Strong (0 – 3 years experience)\nStrengthening Systems (4 – 10 years experience)\nLeading for Long-Term Trust (10+ years experience)\n\nEach track will be facilitated by an AFP WNC board member with relevant experience and designed to foster practical conversation\, shared learning\, and meaningful connection. \nCome connect with fellow fundraising professionals and leave with fresh ideas you can bring back to your work. \n\nRegistration includes a drink ticket. NA options will be available.\n\nThe event will be held at River Arts District Brewing (13 Mystery St. Asheville\, NC 28801)\n\n \nRegister
URL:https://www.afpwnc.org/event/april-crafted-conversations-2/
LOCATION:River Arts District Brewing Co.\, 13 Mystery St.\, Asheville\, NC\, 28801\, United States
CATEGORIES:Event
ATTACH;FMTTYPE=image/png:https://www.afpwnc.org/wp-content/uploads/2026/03/AFPWNC-Crafted-Conversations-1.png
ORGANIZER;CN="AFP WNC":MAILTO:chapteradmin@afpwnc.org
END:VEVENT
END:VCALENDAR