BEGIN:VCALENDAR
VERSION:2.0
PRODID:-//AFP WNC - ECPv6.15.20//NONSGML v1.0//EN
CALSCALE:GREGORIAN
METHOD:PUBLISH
X-WR-CALNAME:AFP WNC
X-ORIGINAL-URL:https://www.afpwnc.org
X-WR-CALDESC:Events for AFP WNC
REFRESH-INTERVAL;VALUE=DURATION:PT1H
X-Robots-Tag:noindex
X-PUBLISHED-TTL:PT1H
BEGIN:VTIMEZONE
TZID:America/New_York
BEGIN:DAYLIGHT
TZOFFSETFROM:-0500
TZOFFSETTO:-0400
TZNAME:EDT
DTSTART:20220313T070000
END:DAYLIGHT
BEGIN:STANDARD
TZOFFSETFROM:-0400
TZOFFSETTO:-0500
TZNAME:EST
DTSTART:20221106T060000
END:STANDARD
BEGIN:DAYLIGHT
TZOFFSETFROM:-0500
TZOFFSETTO:-0400
TZNAME:EDT
DTSTART:20230312T070000
END:DAYLIGHT
BEGIN:STANDARD
TZOFFSETFROM:-0400
TZOFFSETTO:-0500
TZNAME:EST
DTSTART:20231105T060000
END:STANDARD
BEGIN:DAYLIGHT
TZOFFSETFROM:-0500
TZOFFSETTO:-0400
TZNAME:EDT
DTSTART:20240310T070000
END:DAYLIGHT
BEGIN:STANDARD
TZOFFSETFROM:-0400
TZOFFSETTO:-0500
TZNAME:EST
DTSTART:20241103T060000
END:STANDARD
END:VTIMEZONE
BEGIN:VEVENT
DTSTART;TZID=America/New_York:20230816T113000
DTEND;TZID=America/New_York:20230816T123000
DTSTAMP:20260425T120741
CREATED:20230219T170416Z
LAST-MODIFIED:20230822T232815Z
UID:4570-1692185400-1692189000@www.afpwnc.org
SUMMARY:Quantifying Connection: The 5 Evolutions of AI in Philanthropy
DESCRIPTION:August Professional Development | Quantifying Connection: The 5 Evolutions of AI in Philanthropy\n\n\nThe recording of this program is available HERE. \nThe slides for this program are available for download as PDF HERE. \n  \nNonprofit organizations are facing an ongoing Generosity Crisis as the pool of potential donors continues to shrink. However\, advanced technology is the only scalable solution for reversing downward trends in charitable giving. By leveraging AI technologies like machine learning and generative AI like ChatGPT\, fundraisers can create efficiencies while prioritizing relationships over revenue and target the best donors with the greatest long-term value. \nJoin us for an exploration of the five key evolutions of AI and how you can leverage this technology to drive greater impact and engagement. \n\n\n\n \nPresented by Nathan Chappell\, MBA\, MNA\, CFRE \nNathan Chappell has been a thought leader\, public speaker\, author and inventor\, Nathan is one of the world’s foremost experts on the intersection between Artificial Intelligence and philanthropy. Nathan serves as Senior Vice President of DonorSearch AI\, where he leads AI deployments for some of the nation’s largest nonprofit organizations. \nNathan’s subject matter expertise has been featured in several publications\, including Fast Company\, University of Notre Dame and the Association of Healthcare Philanthropy. In 2021\, Nathan founded Fundraising.Ai as a member-centric collaboration of nonprofit professionals with a focus on data ethics\, data equality\, privacy and security\, sustainability. Nathan presented the first TEDx on the topic of artificial intelligence and the future of generosity in 2018. \nNathan is a member of the Forbes Technology Council and holds a Masters in Nonprofit Administration from University of Notre Dame\, an MBA from University of Redlands\, a certificate in International Economics from University of Cambridge and a certificate in Artificial Intelligence from MIT. \n\nRegister \n\n 
URL:https://www.afpwnc.org/event/august-professional-development/
LOCATION:Virtual
CATEGORIES:Event,Zoom Call
ORGANIZER;CN="AFP WNC":MAILTO:chapteradmin@afpwnc.org
END:VEVENT
END:VCALENDAR