BEGIN:VCALENDAR
VERSION:2.0
PRODID:-//AFP WNC - ECPv6.15.20//NONSGML v1.0//EN
CALSCALE:GREGORIAN
METHOD:PUBLISH
X-ORIGINAL-URL:https://www.afpwnc.org
X-WR-CALDESC:Events for AFP WNC
REFRESH-INTERVAL;VALUE=DURATION:PT1H
X-Robots-Tag:noindex
X-PUBLISHED-TTL:PT1H
BEGIN:VTIMEZONE
TZID:America/New_York
BEGIN:DAYLIGHT
TZOFFSETFROM:-0500
TZOFFSETTO:-0400
TZNAME:EDT
DTSTART:20240310T070000
END:DAYLIGHT
BEGIN:STANDARD
TZOFFSETFROM:-0400
TZOFFSETTO:-0500
TZNAME:EST
DTSTART:20241103T060000
END:STANDARD
BEGIN:DAYLIGHT
TZOFFSETFROM:-0500
TZOFFSETTO:-0400
TZNAME:EDT
DTSTART:20250309T070000
END:DAYLIGHT
BEGIN:STANDARD
TZOFFSETFROM:-0400
TZOFFSETTO:-0500
TZNAME:EST
DTSTART:20251102T060000
END:STANDARD
BEGIN:DAYLIGHT
TZOFFSETFROM:-0500
TZOFFSETTO:-0400
TZNAME:EDT
DTSTART:20260308T070000
END:DAYLIGHT
BEGIN:STANDARD
TZOFFSETFROM:-0400
TZOFFSETTO:-0500
TZNAME:EST
DTSTART:20261101T060000
END:STANDARD
BEGIN:DAYLIGHT
TZOFFSETFROM:-0500
TZOFFSETTO:-0400
TZNAME:EDT
DTSTART:20270314T070000
END:DAYLIGHT
BEGIN:STANDARD
TZOFFSETFROM:-0400
TZOFFSETTO:-0500
TZNAME:EST
DTSTART:20271107T060000
END:STANDARD
END:VTIMEZONE
BEGIN:VEVENT
DTSTART;TZID=America/New_York:20250514T113000
DTEND;TZID=America/New_York:20250514T130000
DTSTAMP:20260424T103454
CREATED:20250318T151546Z
LAST-MODIFIED:20250422T144212Z
UID:5311-1747222200-1747227600@www.afpwnc.org
SUMMARY:May Professional Development | Leading Through Disequilibrium: Coaching Tools for Nonprofit Leaders and Fundraisers Navigating Change
DESCRIPTION:May Professional Development | Leading Through Disequilibrium: Coaching Tools for Nonprofit Leaders and Fundraisers Navigating Change\nJoin Tracey Greene-Washington—social entrepreneur\, author\, founder of CoThinkk\, and President of Indigo Innovation Group—for a dynamic\, coaching-based experience designed for nonprofit executives\, fundraisers\, development professionals\, and consultants. This interactive workshop will explore how to recognize and name disequilibrium during times of uncertainty\, using tools like the Blob Tree and Emotions Wheel. \nParticipants will learn how to deepen their leadership presence\, re-align with purpose\, connect authentically with others\, and strengthen collaboration and cohesion within their team and donor base\, especially within the context of social change philanthropy. Grounded in equity\, systems thinking\, and strategic thought-partnership\, this session offers practical insights to lead with clarity\, purpose\, and resilience. \nCatered lunch is an optional addition to your registration fee. Vegetarian and Gluten Free options will be available. \n\n \nRegister
URL:https://www.afpwnc.org/event/may-professional-development-2/
LOCATION:Asheville Chamber of Commerce\, 36 Montford Avenue\, Asheville\, NC\, 28801\, United States
CATEGORIES:Event
ORGANIZER;CN="AFP WNC":MAILTO:chapteradmin@afpwnc.org
END:VEVENT
BEGIN:VEVENT
DTSTART;TZID=America/New_York:20250611T160000
DTEND;TZID=America/New_York:20250611T173000
DTSTAMP:20260424T103454
CREATED:20250131T221020Z
LAST-MODIFIED:20250131T221020Z
UID:5259-1749657600-1749663000@www.afpwnc.org
SUMMARY:June Crafted Conversations
DESCRIPTION:June Crafted Conversations\nJoin your colleagues for some “Crafted Conversations” around fundraising topics you want to talk about! When you register\, please add your suggestions\, which will help shape the social’s theme. Registration includes a drink ticket. NA options will be available.\n\nThe event will be held at White Labs Brewing – 172 S Charlotte St\, Asheville\, NC 28801\n\n \nRegister
URL:https://www.afpwnc.org/event/june-crafted-conversations/
LOCATION:White Labs Brewing\, 172 S. Charlotte St\, Asheville\, NC\, 28801\, United States
CATEGORIES:Event
ORGANIZER;CN="AFP WNC":MAILTO:chapteradmin@afpwnc.org
END:VEVENT
BEGIN:VEVENT
DTSTART;TZID=America/New_York:20250709T113000
DTEND;TZID=America/New_York:20250709T130000
DTSTAMP:20260424T103454
CREATED:20250415T165359Z
LAST-MODIFIED:20250710T144540Z
UID:5352-1752060600-1752066000@www.afpwnc.org
SUMMARY:How You Can Put More ‘Zing’ Into Your Recurring Donor Program
DESCRIPTION:July Professional Development | How You Can Put More ‘Zing’ Into Your Recurring Donor Program\nThe slides from this presentation are available for download HERE. \nThe handout from this presentation is available HERE. \nIn challenging times\, monthly donors are true lifesavers. They keep the lights on. They keep your mission going\, no matter what happens in the world. \nErica Waasdorp (who wrote two books and lots of resources on monthly giving) will show you how to do exactly that.  \nAfter this session\, you’ll have the magic combination of tiny stories to share and tools to apply to bring in new monthly donors and how to steward the ones you already have. You’ll learn lots of great practical examples and case studies you can apply in your organization right away. You do not want to miss this!   \n\n\n\nAttendees will be able to create small stories for monthly giving.  \n\n\n\n\nAttendees will know the value of monthly donors and how they’ll support your mission in the long run.  \n\n\n\n\nAttendees will come away with practical approaches on asking for monthly gifts they can implement right away.  \n\n\n\n\nAttendees will understand the combination of focus\, commitment\, systems and storytelling to grow your program to the next level.  \n\n\n\nAs an expert in the subject matter\, a seasoned presenter\, and AFP Master Trainer\, Erica ensures that the audience not only learns but is fully engaged throughout the interactive session. There will be time for questions throughout and at the end.  \nIf you’re looking to begin or further develop your monthly donor program\, this session is for you. \nCatered lunch will be available to add to your registration fee. Vegetarian and Gluten Free options will be available. \nFull participation in this program is applicable for 1.25 points in Category 1.B -Education of the CFRE International application for initial certification and/or recertification. \n\n \n  \nPresented by Erica Waasdorp\, President\, A Direct Solution. Erica is President of A Direct Solution\, located on Cape Cod\, Massachusetts.  Erica lives and breathes direct response and fundraising and can be considered a Philanthropyholic. She works with non-profit clients all over the country as well as internationally\, helping them with their appeals and monthly giving. She is also the former US Ambassador for the International Fundraising Congress (IFC). Erica Waasdorp published two books on monthly giving. Her first Monthly Giving. The Sleeping Giant\, published in 2012 and Monthly Giving Made Easy\, a How-To Guide\, published in May of 2021.   She created the Monthly Donor Road Map and several e-books to include the Monthly Donor Retention Play Book and many other resources.  Erica is an AFP Master Trainer\, and she regularly blogs and presents in person or virtually on appeals\, direct mail\, and monthly giving.  Erica and her husband have one cat\, two boys and three grandkids who live in Forest City\, NC.  \n  \nRegister
URL:https://www.afpwnc.org/event/how-you-can-put-more-zing-into-your-recurring-donor-program/
LOCATION:North Carolina Arboretum\, 20 Frederick Law Olmsted Way\, Asheville\, NC\, 28806\, United States
ORGANIZER;CN="AFP WNC":MAILTO:chapteradmin@afpwnc.org
END:VEVENT
BEGIN:VEVENT
DTSTART;TZID=America/New_York:20250813T160000
DTEND;TZID=America/New_York:20250813T173000
DTSTAMP:20260424T103454
CREATED:20250703T183848Z
LAST-MODIFIED:20250703T183928Z
UID:5419-1755100800-1755106200@www.afpwnc.org
SUMMARY:August Crafted Conversations
DESCRIPTION:August Crafted Conversations\nJoin your colleagues for some “Crafted Conversations” around fundraising topics you want to talk about! When you register\, please add your suggestions\, which will help shape the social’s theme. Registration includes a drink ticket. NA options will be available.\n\nThe event will be held at Appalachian Mountain Brewery Taproom and Kitchen\, 46 N Mills River Rd\, Mills River\, NC 28759.\n\n \nRegister
URL:https://www.afpwnc.org/event/august-crafted-conversations/
LOCATION:Appalachian Mountain Brewery Taproom and Kitchen\, 46 N Mills River Rd\, Mills River\, 28759\, United States
CATEGORIES:Event
ORGANIZER;CN="AFP WNC":MAILTO:chapteradmin@afpwnc.org
END:VEVENT
BEGIN:VEVENT
DTSTART;TZID=America/New_York:20250910T113000
DTEND;TZID=America/New_York:20250910T130000
DTSTAMP:20260424T103454
CREATED:20250806T152115Z
LAST-MODIFIED:20250910T162722Z
UID:5457-1757503800-1757509200@www.afpwnc.org
SUMMARY:﻿From Awareness to Action: Advancing IDEA in Fundraising and Nonprofit Leadership
DESCRIPTION:September Professional Development | From Awareness to Action: Advancing IDEA in Fundraising and Nonprofit Leadership\nThe slides from this program are available to download as PDF here. \nJoin Rochelle Jerry\, a seasoned nonprofit leader and fundraiser\, AFP Global Board Member & IDEA Committee Chair\, for a timely and empowering session on the role of IDEA (Inclusion\, Diversity\, Equity\, and Access) in shaping the future of philanthropy. Through compelling data\, historical context\, and actionable strategies\, this session will explore how fundraisers\, nonprofit leaders\, and AFP chapters can be catalysts for lasting\, systemic change. \nTogether\, we’ll unpack the history of IDEA in America and within AFP\, confront current challenges in the fundraising profession\, and highlight innovative practices that prioritize equity and inclusion. Whether your chapter is just beginning or deepening its IDEA journey\, this session offers the clarity\, tools\, and courage to lead with purpose and impact. \nOutcomes for Attendees: \n\nGain historical insight into the roots and evolution of diversity\, equity\, and inclusion in the U.S. and the nonprofit sector.\nUnderstand the current state of IDEA in fundraising\, including key data\, trends\, and systemic challenges.\nExplore best practices from AFP Global and local chapters for prioritizing and implementing IDEA strategies.\nLearn how to lead courageous conversations and build inclusive cultures within your organization or AFP chapter.\nWalk away with practical action steps to support IDEA initiatives in fundraising\, governance\, and community engagement.\nConnect with tools and resources including AFP Global’s IDEA materials\, affinity groups\, and accessibility toolkit to support ongoing efforts.\n\nCatered lunch is included in your registration fee. Vegetarian and Gluten Free options will be available. \nZoom attendees should plan to join at 11:45 a.m. via the email you receive on Wednesday morning. \n\n \n  \nPresented by Rochelle Jerry\, CFRM. Rochelle is a seasoned nonprofit executive with over 20 years of experience specializing in strategic and fundraising development. Her expertise spans grant writing\, board leadership\, governance\, and volunteer engagement. Throughout her career\, she has served prominent organizations in leadership roles\, such as American Academy of Disability Evaluating Physicians (AADEP)\, Institute of Food Technologists (IFT)\, Society of Surgical Oncology/ The Society of Surgical Oncology Foundation (SSO/SSOF)\, American Society of Plastic Surgeons/The Plastic Surgery Foundation (ASPS/PSF)\, Indiana Black Expo\, Inc. (IBE)\, and the Indy Arts Council (IAC) raising over $16.1M of new operating funds. \nShe is the CEO & Co-Founder of Jerry Consulting Group\, adjunct faculty member of Indiana University\, Lilly Family School of Philanthropy. Rochelle holds a B.A. in Marketing from DePaul University where she pursued graduate studies in Nonprofit Management. She has further enhanced her expertise with executive \nleadership and fundraising development education from Indiana University’s Lilly Family School of Philanthropy The Fund Raising School and earned her Certification in Fund Raising Management (CFRM) as well as a Digital Marketing Science Certification from Indiana Wesleyan University. This certification acknowledges the successful completion of the Google Analytics Certification\, the Google Ads Search Certification\, and the HubSpot Email Marketing Certification. \n  \nThis program is made possible thanks to the generous support of our sponsors and partners. \n \n  \n \n  \n \n  \n \nRegister for Luncheon \n  \nRegister for Zoom
URL:https://www.afpwnc.org/event/centering-idea-with-rochelle-jerry/
LOCATION:WNC Bridge Foundation\, 294 Overlook Road\, Asheville\, 28803\, United States
CATEGORIES:Event
ORGANIZER;CN="AFP WNC":MAILTO:chapteradmin@afpwnc.org
END:VEVENT
BEGIN:VEVENT
DTSTART;TZID=America/New_York:20251008T160000
DTEND;TZID=America/New_York:20251008T173000
DTSTAMP:20260424T103454
CREATED:20250903T211433Z
LAST-MODIFIED:20250903T211433Z
UID:5508-1759939200-1759944600@www.afpwnc.org
SUMMARY:October Crafted Conversations
DESCRIPTION:October Crafted Conversations\nJoin your colleagues for some “Crafted Conversations” around fundraising topics you want to talk about! When you register\, please add your suggestions\, which will help shape the social’s theme. Registration includes a drink ticket. NA options will be available.\n\nThe event will be held at River Arts District Brewing Co.\, 13 Mystery Street\, Asheville NC 28801.\n\n \nRegister
URL:https://www.afpwnc.org/event/october-crafted-conversations/
LOCATION:River Arts District Brewing Co.\, 13 Mystery St.\, Asheville\, NC\, 28801\, United States
CATEGORIES:Event
ORGANIZER;CN="AFP WNC":MAILTO:chapteradmin@afpwnc.org
END:VEVENT
BEGIN:VEVENT
DTSTART;TZID=America/New_York:20251112T083000
DTEND;TZID=America/New_York:20251112T160000
DTSTAMP:20260424T103454
CREATED:20250903T215624Z
LAST-MODIFIED:20250916T223739Z
UID:5514-1762936200-1762963200@www.afpwnc.org
SUMMARY:Philanthropy Summit 2025
DESCRIPTION:Philanthropy Summit 2025\nAFP WNC is excited to announce the 2025 Philanthropy Summit\, which includes the return of our annual National Philanthropy Day Celebration followed by a half-day professional development conference formerly known as Philanthropy Institute. \nThe day begins with an elegant breakfast and National Philanthropy Day Awards Ceremony honoring the visionaries\, changemakers\, and champions of giving in our region. We’ll celebrate those who give\, those who raise funds\, and those who put resources to work for the greater good—including the presentation of the prestigious Summit Award to a lifelong leader in fundraising and community impact. \nFollowing the Awards Ceremony\, the program transforms into a conference-style Philanthropy Institute\, complete with a networking lunch\, skill-building workshops\, and inspiring sessions for fundraisers and community leaders. Attendees will hear a fundraising-focused keynote\, dive into practical breakout sessions\, and end the day with a dynamic panel of local foundations and funders offering their perspectives on giving in WNC. \nEarly Bird Registration is open now through October 6—don’t miss your chance to save and secure your seat. \n\nRegister as an AFP Member \nRegister as a Non-member \n  \nCancellation Policy\nRefunds and/or credits are not available for or applied to Philanthropy Summit. If payment is ‘pending at the door’ and an attendee is unable to attend\, an invoice will be emailed following the program.
URL:https://www.afpwnc.org/event/philanthropy-summit-2025/
LOCATION:A-B Tech Conference Center\, 16 Fernihurst Dr\, Asheville\, NC\, 28801\, United States
CATEGORIES:Event
ORGANIZER;CN="AFP WNC":MAILTO:chapteradmin@afpwnc.org
END:VEVENT
BEGIN:VEVENT
DTSTART;TZID=America/New_York:20251210T160000
DTEND;TZID=America/New_York:20251210T173000
DTSTAMP:20260424T103454
CREATED:20251030T211429Z
LAST-MODIFIED:20251203T222532Z
UID:5613-1765382400-1765387800@www.afpwnc.org
SUMMARY:December Crafted Conversations & Holiday Social
DESCRIPTION:December Crafted Conversations\nJoin your colleagues for “Crafted Conversations” around fundraising topics you want to talk about! This year-end celebration event is free of charge and registration is required. Each attendee will receive a drink ticket. NA options will be available.\n\n \n  \nRegister
URL:https://www.afpwnc.org/event/december-crafted-conversations/
LOCATION:Highland Brewery\, 12 Old Charlotte Highway\, Asheville\, NC\, 28803\, United States
CATEGORIES:Event
ORGANIZER;CN="AFP WNC":MAILTO:chapteradmin@afpwnc.org
END:VEVENT
BEGIN:VEVENT
DTSTART;TZID=America/New_York:20260211T160000
DTEND;TZID=America/New_York:20260211T173000
DTSTAMP:20260424T103454
CREATED:20251227T164946Z
LAST-MODIFIED:20260104T215757Z
UID:5667-1770825600-1770831000@www.afpwnc.org
SUMMARY:February Crafted Conversations
DESCRIPTION:February Crafted Conversations\n\nLet’s love on each other’s work (Valentine’s pun fully intended!)\, because fundraising—at its core—is about relationships. \nThis February Crafted Conversations is all about embodying what makes AFP WNC special: fundraisers supporting fundraisers. Attendees are invited to show up as colleagues—sharing real assets\, offering thoughtful feedback\, and strengthening one another’s work in real time. \nThis is not a critique session. It’s a generous exchange of ideas\, language\, and inspiration\, grounded in our shared commitment to Western North Carolina and the communities we serve. \nThe Ask \nWe invite each participant to bring one fundraising asset they’re willing to share—polished or still in progress—such as: \n\nA donor email or appeal letter\nA sponsorship pitch or flyer\nA social media post or campaign graphic\nA stewardship touchpoint\nA grant narrative excerpt\nA board-facing fundraising tool\n\nPrinted copies or digital versions on a phone or laptop are both welcome. \nCome ready to give encouragement\, borrow inspiration\, and leave with ideas you can actually use. This is what a community of practice looks like—and we can’t wait to share the space with you. \nWe hope you’ll join us at 12 Bones for connection\, collaboration\, and a little fundraiser love. \n\n\nRegistration includes a drink ticket. NA options will be available.\n\nThe event will be held at 12 Bones Smokehouse & Brewing\, 2350 Hendersonville Rd\, Arden\, NC 28704\n\n \nRegister
URL:https://www.afpwnc.org/event/february-crafted-conversations-2/
LOCATION:12 Bones South\, 2350 Hendersonville Rd\, Arden\, NC\, 28704\, United States
CATEGORIES:Event
ORGANIZER;CN="AFP WNC":MAILTO:chapteradmin@afpwnc.org
END:VEVENT
BEGIN:VEVENT
DTSTART;TZID=America/New_York:20260311T120000
DTEND;TZID=America/New_York:20260311T130000
DTSTAMP:20260424T103454
CREATED:20260204T201609Z
LAST-MODIFIED:20260206T203124Z
UID:5702-1773230400-1773234000@www.afpwnc.org
SUMMARY:AFP WNC Presents: 2025 Bank of America Study of Philanthropy
DESCRIPTION:AFP WNC Presents: 2025 Bank of America Study of Philanthropy\n\nJoin AFP Western North Carolina for a timely virtual presentation with Dianne Chipps Bailey\, Managing Director and National Philanthropic Strategy Executive at Bank of America Private Bank. Dianne will share key findings from the 2025 Bank of America Study of Philanthropy\, one of the field’s most influential research reports on charitable giving trends\, motivations\, and behaviors. \nThis year’s study highlights insights nonprofit professionals can use to strengthen fundraising strategy\, deepen donor relationships\, and adapt to a changing philanthropic landscape. From giving patterns to volunteer engagement and donor decision-making\, attendees will gain practical\, data-informed knowledge to support their work in the year ahead. \nZoom link will be sent closer to the event date. \n\n\n \nPresented by Dianne Chipps Bailey. Dianne is a trusted advisor to influential\, impactful philanthropists and a passionate advocate for the nonprofit organizations they support. Dianne’s current role is Managing Director and National Philanthropic Strategy Executive for Bank of America. Her team delivers customized consulting and advisory services on topics including strategic visioning\, mission advancement\, high-impact grant making\, leadership development\, governance and board dynamics. Dianne is a frequent speaker and commentator on topics related to best practices and trends in philanthropy. Her insights have been featured in Axios\, Barron’s\, Business Insider\, Fortune\, Town & Country\, Washington Post and New York Times\, among other publications. In her TEDx Talk\, Dianne makes The Case for Fierce Optimism. Dianne has more than twenty-five years of experience working with operating charities\, grantmakers and social entrepreneurs. \nRegister
URL:https://www.afpwnc.org/event/afp-wnc-presents-2025-bank-of-america-study-of-philanthropy/
LOCATION:Virtual
CATEGORIES:Event,Zoom Call
ORGANIZER;CN="AFP WNC":MAILTO:chapteradmin@afpwnc.org
END:VEVENT
BEGIN:VEVENT
DTSTART;TZID=America/New_York:20260416T160000
DTEND;TZID=America/New_York:20260416T173000
DTSTAMP:20260424T103454
CREATED:20260331T224319Z
LAST-MODIFIED:20260407T125018Z
UID:5744-1776355200-1776360600@www.afpwnc.org
SUMMARY:April Crafted Conversations
DESCRIPTION:From Transaction to Trust: Community-Centered Donor Stewardship in a Changing Landscape\n\nJoin AFP WNC for our April Crafted Conversations as we explore how donor expectations are changing and what that means for stewardship\, communication\, and retention. \nThis month’s conversation is designed for fundraisers across experience levels and organizational contexts\, with three guided discussion tracks: \n\nStarting Strong (0 – 3 years experience)\nStrengthening Systems (4 – 10 years experience)\nLeading for Long-Term Trust (10+ years experience)\n\nEach track will be facilitated by an AFP WNC board member with relevant experience and designed to foster practical conversation\, shared learning\, and meaningful connection. \nCome connect with fellow fundraising professionals and leave with fresh ideas you can bring back to your work. \n\nRegistration includes a drink ticket. NA options will be available.\n\nThe event will be held at River Arts District Brewing (13 Mystery St. Asheville\, NC 28801)\n\n \nRegister
URL:https://www.afpwnc.org/event/april-crafted-conversations-2/
LOCATION:River Arts District Brewing Co.\, 13 Mystery St.\, Asheville\, NC\, 28801\, United States
CATEGORIES:Event
ATTACH;FMTTYPE=image/png:https://www.afpwnc.org/wp-content/uploads/2026/03/AFPWNC-Crafted-Conversations-1.png
ORGANIZER;CN="AFP WNC":MAILTO:chapteradmin@afpwnc.org
END:VEVENT
END:VCALENDAR