BEGIN:VCALENDAR
VERSION:2.0
PRODID:-//AFP WNC - ECPv6.15.20//NONSGML v1.0//EN
CALSCALE:GREGORIAN
METHOD:PUBLISH
X-WR-CALNAME:AFP WNC
X-ORIGINAL-URL:https://www.afpwnc.org
X-WR-CALDESC:Events for AFP WNC
REFRESH-INTERVAL;VALUE=DURATION:PT1H
X-Robots-Tag:noindex
X-PUBLISHED-TTL:PT1H
BEGIN:VTIMEZONE
TZID:America/New_York
BEGIN:DAYLIGHT
TZOFFSETFROM:-0500
TZOFFSETTO:-0400
TZNAME:EDT
DTSTART:20190310T070000
END:DAYLIGHT
BEGIN:STANDARD
TZOFFSETFROM:-0400
TZOFFSETTO:-0500
TZNAME:EST
DTSTART:20191103T060000
END:STANDARD
BEGIN:DAYLIGHT
TZOFFSETFROM:-0500
TZOFFSETTO:-0400
TZNAME:EDT
DTSTART:20200308T070000
END:DAYLIGHT
BEGIN:STANDARD
TZOFFSETFROM:-0400
TZOFFSETTO:-0500
TZNAME:EST
DTSTART:20201101T060000
END:STANDARD
BEGIN:DAYLIGHT
TZOFFSETFROM:-0500
TZOFFSETTO:-0400
TZNAME:EDT
DTSTART:20210314T070000
END:DAYLIGHT
BEGIN:STANDARD
TZOFFSETFROM:-0400
TZOFFSETTO:-0500
TZNAME:EST
DTSTART:20211107T060000
END:STANDARD
END:VTIMEZONE
BEGIN:VTIMEZONE
TZID:UTC
BEGIN:STANDARD
TZOFFSETFROM:+0000
TZOFFSETTO:+0000
TZNAME:UTC
DTSTART:20190101T000000
END:STANDARD
END:VTIMEZONE
BEGIN:VEVENT
DTSTART;TZID=America/New_York:20200916T113000
DTEND;TZID=America/New_York:20200916T123000
DTSTAMP:20260424T045655
CREATED:20200730T213445Z
LAST-MODIFIED:20200917T212333Z
UID:3426-1600255800-1600259400@www.afpwnc.org
SUMMARY:Foundations of Equity\, Diversity\, & Inclusion
DESCRIPTION:September Professional Development\nFoundations of Equity\, Diversity\, & Inclusion\nView the SLIDES for this event. \n  \nUnderstanding equity\, diversity\, and inclusion is key to untangling the complexity of social issues. In this presentation\, Aisha will lay the groundwork for professionals to make meaning and draw distinction between diversity\, inclusion\, and equity to help create safe spaces with the communities they serve. \n \n \nPresented by Aisha Adams\nAisha Adams is a social media influencer with a heart for community economic development. Through her personal platform Nappy Thoughts (www.nappythoughts.com)\, Aisha has been a resource to individuals and families healing themselves from mental\, emotional\, and physical trauma. Her written work has appeared in publications like The Asheville Citizen Times\, The Asheville Grit\, and The Final Call. Aisha has a BA in English with a concentration in creative writing. She has a Masters in Post-Secondary and Adult Education. Aisha is also the founder of Aisha Adams Media Group. \nRegister
URL:https://www.afpwnc.org/event/09-2020/
LOCATION:Virtual
CATEGORIES:Event,Zoom Call
ATTACH;FMTTYPE=image/png:https://www.afpwnc.org/wp-content/uploads/2020/07/Blank-2000-x-600-1.png
ORGANIZER;CN="AFP WNC":MAILTO:chapteradmin@afpwnc.org
END:VEVENT
BEGIN:VEVENT
DTSTART;TZID=UTC:20200819T113000
DTEND;TZID=UTC:20200819T123000
DTSTAMP:20260424T045655
CREATED:20160316T165245Z
LAST-MODIFIED:20200723T002930Z
UID:3134-1597836600-1597840200@www.afpwnc.org
SUMMARY:Five Mistakes Boards Must Avoid
DESCRIPTION:August Professional Development\nFive Mistakes Boards Must Avoid\nServing on a board of directors is a significant commitment. Yet some board members may not be aware of the nuances of that commitment and how their actions can either accelerate or impede the progress for their nonprofit. In this session\, we will discuss five essential mistakes made by boards that can hold your institution back. Make sure to invite your board members to this important discussion! \nPresented By Doug Hartjes\nDoug Hartjes is a Certified Fundraising Executive (CFRE) and is a past president of the Association of Fundraising Professionals Charlotte Chapter. Doug is enthusiastic about facilitating conversations around the art and science of fundraising and helping nonprofits enhance their organizational effectiveness. Doug is the founder and President of COR Consulting and has spent the last 18 years of his career in nonprofit leadership. He has served in varied roles in the nonprofit sector including chief executive officer\, chief development officer\, board member/Chair\, mentor\, volunteer and consultant. During his nonprofit tenure he has helped institutions not only meet\, but exceed their fundraising and organizational goals. \n\nRegister
URL:https://www.afpwnc.org/event/08-2020/
LOCATION:Virtual
CATEGORIES:Zoom Call
ATTACH;FMTTYPE=image/png:https://www.afpwnc.org/wp-content/uploads/2016/03/Lets-Get-Local-Facebook-1.png
ORGANIZER;CN="AFP WNC":MAILTO:chapteradmin@afpwnc.org
END:VEVENT
BEGIN:VEVENT
DTSTART;TZID=UTC:20200715T140000
DTEND;TZID=UTC:20200715T150000
DTSTAMP:20260424T045655
CREATED:20171114T212023Z
LAST-MODIFIED:20200701T212544Z
UID:3136-1594821600-1594825200@www.afpwnc.org
SUMMARY:Your Annual Fund During a Worldwide Crisis
DESCRIPTION:July Professional Development\nYour Annual Fund During a Worldwide Crisis – How Do We Get Back to Fundraising?\nThis presentation will discuss the tools and techniques you should be using to communicate effectively with your donors and how the fundraising landscape has changed since the coronavirus pandemic. Anthony will discuss how cultivation has become one of the most valuable tools in your arsenal for the long-term sustainability of your annual fund. Other topics discussed will be the use of telephone outreach during this time of crisis and how to create a multi-channel strategy to incorporate email solicitations\, direct mail\, text to give\, and social media. \n\n \nPresented by Anthony R. Alonso\nAnthony R. Alonso is one of the nation’s leading fundraisers with over three decades of expertise in direct marketing and tele-fundraising. In 2017\, Anthony co-founded Catapult Fundraising. \nAnthony is a natural leader and has managed his own  business for over twenty years. During this time\, he has learned how to overcome obstacles\, navigate “gray areas” in an ethical manner\, and how to motivate a team while always moving forward. \nIt’s Anthony’s expertise and passion for helping non-profit organizations that has allowed him to successfully raise close to a billion dollars for organizations in need over the last ten years alone. \nAnthony’s impact on the profession goes far beyond serving Catapult’s clients. He has served on the boards of AFP New Jersey\, The Giving Institute\, Giving USA\, the AFP Foundation for Philanthropy\, and was a founding member of the AFP Industry Partners Council. \nRegister
URL:https://www.afpwnc.org/event/07-2020/
LOCATION:Virtual
CATEGORIES:Event
ATTACH;FMTTYPE=image/png:https://www.afpwnc.org/wp-content/uploads/2017/11/fundraising-1.png
ORGANIZER;CN="AFP WNC":MAILTO:chapteradmin@afpwnc.org
END:VEVENT
BEGIN:VEVENT
DTSTART;TZID=UTC:20200617T110000
DTEND;TZID=UTC:20200617T120000
DTSTAMP:20260424T045656
CREATED:20160316T164808Z
LAST-MODIFIED:20200701T212813Z
UID:615-1592391600-1592395200@www.afpwnc.org
SUMMARY:How To Make Your Major Gift Program Successful
DESCRIPTION:Click HERE to view the slides from this presentation. \n \nJune Professional Development | How To Make Your Major Gift Program Successful\nIn these uncertain times\, Major Gifts may be more important to your development program than ever before. Join fundraising consultant and expert\, Richard Perry\, for this presentation focusing on the ins and outs of major gift work. The workshop begins with sharing the underlying philosophy that major gifts fundraising is not about money. Other topics that will be covered include best practice economics of major gifts\, finding major gift prospects in your donor file\, the importance of personalized goals and plans for each donor. Finally\, Richard will share the six critical metrics you should use for evaluating major gift performance.\n\n\n \nAbout Richard Perry\nRichard Perry has a long history of working with non-profit organizations as a Director of Development and consultant. For eight years he served as Director of Development for a U.S-based relief and development organization where he and his team increased the donor list from 16\,000 to 350\,000 people and annual income rose from $600\,000 to $15 million in just four years. Richard was a co-founder of The Domain Group which he and his business partner sold in 2005. Domain was one of the largest direct marketing agencies serving non-profits in the United States. Driven by a passion for major gift fundraising\, Richard founded The Veritus Group where he and his business partner\, Jeff Schreifels\, have developed an innovative and effective approach to turn around the loss of major gift revenue which\, for many charities\, is in the 40-60% range per year. Richard and his colleagues currently serve clients\, large and small\, from every philanthropic sector in the United States\, Canada and Europe.  In addition to his management and leadership responsibilities\, Richard specializes in organization development\, strategic planning\, positioning\, branding\, new ventures\, and diversification.
URL:https://www.afpwnc.org/event/05-2020/
LOCATION:Virtual
CATEGORIES:Event
ATTACH;FMTTYPE=image/png:https://www.afpwnc.org/wp-content/uploads/2016/03/warm_glow_of_giving-1.png
ORGANIZER;CN="AFP WNC":MAILTO:chapteradmin@afpwnc.org
END:VEVENT
END:VCALENDAR